Workbook

Sheet Project Information
B2: CCCD Monitoring Framework
B3: The CCCD Monitoring Framework is based on the Theory of Change and includes all its defined results. Each result is measured through one or more indicators, with clear means of verification. This document contains all monitoring tools and reporting sheets. All monitoring tools are available in Kobo. The collected data are visualised in a Power BI dashboard to support learning, accountability, and decision-making.
B10: Project information
D12: Country: | E12: Uganda
D13: Partner organisation:
D14: Project code:
D15: Project name: | E15: CCCD
D16: Region:
D17: Start year: | E17: 2026
D18: End year: | E18: 2032
C20: # | D20: Village name | E20: Parish
C21: 1
C22: 2
C23: 3
C24: 4
C25: 5
C26: 6
C27: 7
C28: 8
C29: 9
C30: 10
C31: 11
C32: 12
... C45: 25
B48: Tools
D50: Tools/ reports | E50: Type | F50: Frequency
D51: Output report | E51: Report | F51: Annually
D52: Community members tool Part 1: Education & Children Part 2: Economic Part 3: Community | E52: Outcome tool
D53: Parenting tool | E53: Outcome tool
D54: Prospective parents tool | E54: Outcome tool
D55: Children tool | E55: Outcome tool
D56: Survey ECD teachers | E56: Outcome tool
D57: Survey local leaders | E57: Outcome tool
D58: Survey implementing organisation | E58: Outcome tool
D59: ECD Scorecard | E59: Outcome tool
D60: ECD centers overview | E60: Report
D61: PIP Survey | E61: Outcome tool
D62: PIP Report | E62: Report
D63: SHG economics report | E63: Report

Sheet ToC
A1: Theory of Change

Sheet CCCD Monitoring Framework
B2: Level | C2: Results | D2: Indicator | E2: Means of Verification | F2: Survey question
B3: Help a Child's overall impact | C3: All children have a life in dignity, with love and a promising future
B4: CCCD Impact | C4: Children in the community are safe and supported to live up to their full developmental potential | D4: Average percentage of CCCD Impact indicators
D5: Percentage of parents who feel confident in their knowledge and skills to guide their children’s early development. | E5: Community group tool - Education & Children | F5: How do you rate your ability to support your children in their education?
D6: Percentage of parents who feel capable of protecting their children from harm. | E6: Community group tool - Education & Children | F6: How do you rate your ability to protect your children from harm?
D7: Percentage of caregivers who feel confident in their understanding of what is required to care for and raise a child. | E7: Community group tool - Education & Children | F7: How do you rate your ability to support the development of your children?
D8: Percentage of parents who feel confident in providing their children with basic daily necessities. | E8: Community group tool - Economic | F8: Are you able to provide your children with basic daily necessities (e.g., nutritious food, clean water, shelter, and health care)?
D9: Percentage of children in the community who demonstrate positive emotional well-being. | E9: Community group tool - Education & Children | F9: How well do your children manage their emotions (e.g., when upset or frustrated)?
D10: Percentage of parents indicating that all children have access to (early childhood) education. | E10: Community group tool - Education & Children | F10: Do all children have access to (early childhood) education (girls equal as boys, children with a disability)
D11: Percentage of prospective parents who feel confident in their ability to provide future children with the care, support, and opportunities needed for a good start. | E11: Prospective parents group tool | F11: How prepared do you feel to care for and support your (future) children in their daily needs, such as health, nutrition, safety, and emotional support?
D12: Percentage of children who feel safe in their community. | E12: Children group tool | F12: Do you feel safe in the community?
D13: Percentage of children who feel safe when they are with their family or caregiver(s). | E13: Children group tool | F13: Do you feel safe when you are with your family/caregivers(s).
D14: Percentage of children who believe they will be able to finish school. | E14: Children group tool | F14: Do you think you will be able to finish school?
B15: Pathway 1. | C15: Young children in the community receive inclusive quality early childhood education | D15: Average percentage of pathway 1.
B16: 1.1 | C16: Young children in ECE settings develop in their cognitive, physical, socio-emotional, and spiritual dimensions | D16: Average percentage of 1.1
B17: 1.1.1 | C17: Young children are stimulated in their play and development through teachers’ use of local materials | D17: Percentage of teachers who feel equiped to stimulate children's learning through play. | E17: Survey teachers | F17: Do you feel equiped to use play to stimulate children's learning?
D18: Percentage of teachers who indicate that the ECD center has sufficient locally made materials for play. | E18: Survey teachers | F18: Does the ECD center have sufficient locally made materials for the children to play?
B19: 1.1.2 | C19: Young children in ECE strengthen their academic performance and cope with challenges | D19: Percentage of teachers indicating that children show progress in early academic skills. | E19: Survey teachers | F19: Do the children in your care show progress in early academic skills appropriate to their age (such as counting, recognizing letters, expressing ideas or problem-solving)?
D20: Percentage of children who are developing the skills needed to succeed in early learning. | E20: Community group tool - Education & Children | F20: How well do you think your children are prepared for primary school (for example, in terms of access to quality early childhood education, understanding of numbers and letters, and social skills)?
B21: 1.1.3 | C21: Young children in ECE strengthen their social and emotional competences | D21: Percentage of teachers indicating that young children demonstrate positive social and emotional development. | E21: Survey teachers | F21: Do children in your class show positive social and emotional development (e.g., sharing, cooperating, managing emotions)?
D22: Percentage of children who are able to manage their emotions. | E22: Community group tool - Education & Children | F22: How well do your children manage their emotions (e.g., when upset or frustrated)?
D23: Percentage of children who get along well with peers. | E23: Community group tool - Education & Children | F23: How well do your children get along with other children?
B24: 1.1.1.1 | C24: Teacher have sufficient knowledge & skills to guide young childeren in their early childhood development | D24: Average score on Caretaker Qualifications and Skills | E24: ECD Scorecard | F24: Caregiver Qualifications and Skills
D25: Percentage of teachers who feel confident in their knowledge and skills to support young children’s learning and development. | E25: Survey teachers | F25: How do you rate your knowledge and skills to support children’s learning and development?
B26: 1.2 | C26: Young children are supported in their early childhood education by their parents and the community | D26: Average percentage of 1.2
B27: 1.2.1 | C27: Families have sufficient knowledge & skills to guide young childeren in their early childhood development | D27: Percentage of parents who feel confident in their knowledge and skills to guide their children’s early development. | E27: Community group tool - Education & Children | F27: How do you rate your ability to support your children in their education?
E28: Survey teachers | F28: Do children in your care eat something before they arrive at school?
B29: 1.2.2 | C29: The community understands the importance of ECE and engages in supporting and lobbying for ECE | D29: Average score on Parental Participation | E29: ECD Scorecard | F29: Parental Participation
D30: Percentage of local leaders indicating that community members actively engage in supporting and advocating for early childhood education. | E30: Survey local leaders | F30: To what extent is the community actively engaged in supporting and advocating for early childhood education?
B31: 1.3 | C31: Young children benefit from good quality ECE settings | D31: Average percentage of 1.3
B32: 1.3.1 | C32: ECE settings are safe | D32: Average score on Section B - Infrastructure | E32: ECD Scorecard | F32: Section B - Infrastructure
B33: 1.3.1.1 | C33: ECE teachers provide a safe learning environment | D33: Percentage of teachers who feel confident in their ability to create a safe and supportive learning environment for all children in their class. | E33: Survey teachers | F33: How do you rate your ability to create a safe and supportive learning environment for all children in your class?
D34: Average score on Child Protection | E34: ECD Scorecard | F34: Child Protection
B35: 1.3.1.2 | C35: ECE locations provide a safe learning environment | D35: Percentage of teacher who consider their ECE centres (buildings, classrooms, learning materials, supervision) safe and appropriate for children. | E35: ECD Scorecard | F35: Physical Infrastructure
B36: 1.3.1.3/ 1.3.2.1 | C36: Teachers have sufficient knowledge of hygiene and health for young children | D36: Percentage of teachers who feel confident in their knowledge of hygiene and health practices to keep young children safe and healthy. | E36: Survey teachers | F36: How do you rate your knowledge of hygiene and health practices to keep children safe and healthy?
D37: Percentage of teachers who report needing additional training or support in hygiene and health practices for young children. | E37: Survey teachers | F37: How do you rate your knowledge of hygiene and health practices to keep children safe and healthy?
B38: 1.3.2 | C38: ECE settings provide quality teaching | D38: Average score on Section C – Caretaker Quality | E38: ECD Scorecard | F38: Section C – Caregiver Quality
B39: 1.3.1.3/ 1.3.2.1 | C39: Teachers have sufficient knowledge of hygiene and health for young children | F39: See above
F40: See above
B41: 1.3.2.2 | C41: Teachers effectively apply the curriculum in their daily teaching | D41: Percentage of teachers who feel confident in their ability to implement the curriculum effectively in daily teaching activities. | E41: Survey teachers | F41: How do you rate your knowledge and skills to support children’s learning and development?
...

Sheet Outputs report
B2: Output reporting
F3: 2026 Actuals & Planning | R3: Quarterly disaggregation 2026 | AX3: Total disaggregation 2026 | BG3: 2027 Actuals & Planning | BS3: Quarterly disaggregation 2027 | CY3: Total disaggregation 2027 | DH3: 2028 Actuals & Planning | DT3: Quarterly disaggregation 2028 | EZ3: Total disaggregation 2028 | FI3: 2029 Actuals & Planning | FU3: Quarterly disaggregation 2029 | HA3: Total disaggregation 2029 | HJ3: 2030 Actuals & Planning | HV3: Quarterly disaggregation 2030 | JB3: Total disaggregation 2030 | JK3: 2031 Actuals & Planning | JW3: Quarterly disaggregation 2031 | LC3: Total disaggregation 2031 | LL3: 2031 Actuals & Planning | LX3: Quarterly disaggregation 2032 | ND3: Total disaggregation 2032
F5: Planning | L5: Actuals | R5: Quarter 1 | Z5: Quarter 2 | AH5: Quarter 3 | AP5: Quarter 4 | AX5: TOTAL | BG5: Planning | BM5: Actuals | BS5: Quarter 1 | CA5: Quarter 2 | CI5: Quarter 3 | CQ5: Quarter 4 | CY5: TOTAL | DH5: Planning | DN5: Actuals | DT5: Quarter 1 | EB5: Quarter 2 | EJ5: Quarter 3 | ER5: Quarter 4 | EZ5: TOTAL | FI5: Planning | FO5: Actuals | FU5: Quarter 1 | GC5: Quarter 2 | GK5: Quarter 3 | GS5: Quarter 4 | HA5: TOTAL | HJ5: Planning | HP5: Actuals | HV5: Quarter 1 | ID5: Quarter 2 | IL5: Quarter 3 | IT5: Quarter 4 | JB5: TOTAL | JK5: Planning | JQ5: Actuals | JW5: Quarter 1 | KE5: Quarter 2 | KM5: Quarter 3 | KU5: Quarter 4 | LC5: TOTAL | LL5: Planning | LR5: Actuals | LX5: Quarter 1 | MF5: Quarter 2 | MN5: Quarter 3 | MV5: Quarter 4 | ND5: TOTAL
B6: Nr. | C6: Total project reach yearly | D6: Descriptions | F6: Q1 | G6: Q2 | H6: Q3 | I6: Q4 | J6: Total | L6: Q1 | M6: Q2 | N6: Q3 | O6: Q4 | P6: Total | R6: Planning | S6: Actual | T6: Total male | U6: Total female | V6: Total disability | W6: Male with disability | X6: Female with disability | Z6: Planning | AA6: Actual | AB6: Total male | AC6: Total female | AD6: Total disability | AE6: Male with disability | AF6: Female with disability | AH6: Planning | AI6: Actual | AJ6: Total male | AK6: Total female | AL6: Total disability | AM6: Male with disability | AN6: Female with disability | AP6: Planning | AQ6: Actual | AR6: Total male | AS6: Total female | AT6: Total disability | AU6: Male with disability | AV6: Female with disability | AX6: Planning | AY6: Actual | AZ6: Total male | BA6: Total female | BB6: Total disability | BC6: Male with disability | BD6: Female with disability | BE6: Description (please describe how the total is calculated) | BG6: Q1 | BH6: Q2 | BI6: Q3 | BJ6: Q4 | BK6: Total | BM6: Q1 | BN6: Q2 | BO6: Q3 | BP6: Q4 | BQ6: Total | BS6: Planning | BT6: Actual | BU6: Total male | BV6: Total female | BW6: Total disability | BX6: Male with disability | BY6: Female with disability | CA6: Planning | CB6: Actual | CC6: Total male | CD6: Total female | CE6: Total disability | CF6: Male with disability | CG6: Female with disability | CI6: Planning | CJ6: Actual | CK6: Total male | CL6: Total female | CM6: Total disability | CN6: Male with disability | CO6: Female with disability | CQ6: Planning | CR6: Actual | CS6: Total male | CT6: Total female | CU6: Total disability | CV6: Male with disability | CW6: Female with disability | CY6: Planning | CZ6: Actual | DA6: Total male | DB6: Total female | DC6: Total disability | DD6: Male with disability | DE6: Female with disability | DF6: Description (please describe how the total is calculated) | DH6: Q1 | DI6: Q2 | DJ6: Q3 | DK6: Q4 | DL6: Total | DN6: Q1 | DO6: Q2 | DP6: Q3 | DQ6: Q4 | DR6: Total | DT6: Planning | DU6: Actual | DV6: Total male | DW6: Total female | DX6: Total disability | DY6: Male with disability | DZ6: Female with disability | EB6: Planning | EC6: Actual | ED6: Total male | EE6: Total female | EF6: Total disability | EG6: Male with disability | EH6: Female with disability | EJ6: Planning | EK6: Actual | EL6: Total male | EM6: Total female | EN6: Total disability | EO6: Male with disability | EP6: Female with disability | ER6: Planning | ES6: Actual | ET6: Total male | EU6: Total female | EV6: Total disability | EW6: Male with disability | EX6: Female with disability | EZ6: Planning | FA6: Actual | FB6: Total male | FC6: Total female | FD6: Total disability | FE6: Male with disability | FF6: Female with disability | FG6: Description (please describe how the total is calculated) | FI6: Q1 | FJ6: Q2 | FK6: Q3 | FL6: Q4 | FM6: Total | FO6: Q1 | FP6: Q2 | FQ6: Q3 | FR6: Q4 | FS6: Total | FU6: Planning | FV6: Actual | FW6: Total male | FX6: Total female | FY6: Total disability | FZ6: Male with disability | GA6: Female with disability | GC6: Planning | GD6: Actual | GE6: Total male | GF6: Total female | GG6: Total disability | GH6: Male with disability | GI6: Female with disability | GK6: Planning | GL6: Actual | GM6: Total male | GN6: Total female | GO6: Total disability | GP6: Male with disability | GQ6: Female with disability | GS6: Planning | GT6: Actual | GU6: Total male | GV6: Total female | GW6: Total disability | GX6: Male with disability | GY6: Female with disability | HA6: Planning | HB6: Actual | HC6: Total male | HD6: Total female | HE6: Total disability | HF6: Male with disability | HG6: Female with disability | HH6: Description (please describe how the total is calculated) | HJ6: Q1 | HK6: Q2 | HL6: Q3 | HM6: Q4 | HN6: Total | HP6: Q1 | HQ6: Q2 | HR6: Q3 | HS6: Q4 | HT6: Total | HV6: Planning | HW6: Actual | HX6: Total male | HY6: Total female | HZ6: Total disability | IA6: Male with disability | IB6: Female with disability | ID6: Planning | IE6: Actual | IF6: Total male | IG6: Total female | IH6: Total disability | II6: Male with disability | IJ6: Female with disability | IL6: Planning | IM6: Actual | IN6: Total male | IO6: Total female | IP6: Total disability | IQ6: Male with disability | IR6: Female with disability | IT6: Planning | IU6: Actual | IV6: Total male | IW6: Total female | IX6: Total disability | IY6: Male with disability | IZ6: Female with disability | JB6: Planning | JC6: Actual | JD6: Total male | JE6: Total female | JF6: Total disability | JG6: Male with disability | JH6: Female with disability | JI6: Description (please describe how the total is calculated) | JK6: Q1 | JL6: Q2 | JM6: Q3 | JN6: Q4 | JO6: Total | JQ6: Q1 | JR6: Q2 | JS6: Q3 | JT6: Q4 | JU6: Total | JW6: Planning | JX6: Actual | JY6: Total male | JZ6: Total female | KA6: Total disability | KB6: Male with disability | KC6: Female with disability | KE6: Planning | KF6: Actual | KG6: Total male | KH6: Total female | KI6: Total disability | KJ6: Male with disability | KK6: Female with disability | KM6: Planning | KN6: Actual | KO6: Total male | KP6: Total female | KQ6: Total disability | KR6: Male with disability | KS6: Female with disability | KU6: Planning | KV6: Actual | KW6: Total male | KX6: Total female | KY6: Total disability | KZ6: Male with disability | LA6: Female with disability | LC6: Planning | LD6: Actual | LE6: Total male | LF6: Total female | LG6: Total disability | LH6: Male with disability | LI6: Female with disability | LJ6: Description (please describe how the total is calculated) | LL6: Q1 | LM6: Q2 | LN6: Q3 | LO6: Q4 | LP6: Total | LR6: Q1 | LS6: Q2 | LT6: Q3 | LU6: Q4 | LV6: Total | LX6: Planning | LY6: Actual | LZ6: Total male | MA6: Total female | MB6: Total disability | MC6: Male with disability | MD6: Female with disability | MF6: Planning | MG6: Actual | MH6: Total male | MI6: Total female | MJ6: Total disability | MK6: Male with disability | ML6: Female with disability | MN6: Planning | MO6: Actual | MP6: Total male | MQ6: Total female | MR6: Total disability | MS6: Male with disability | MT6: Female with disability | MV6: Planning | MW6: Actual | MX6: Total male | MY6: Total female | MZ6: Total disability | NA6: Male with disability | NB6: Female with disability | ND6: Planning | NE6: Actual | NF6: Total male | NG6: Total female | NH6: Total disability | NI6: Male with disability | NJ6: Female with disability | NK6: Description (please describe how the total is calculated)
B7: 4. | C7: Total # of young children (0-7) reached by direct activities (without double counting) | D7: • The total number of young children/ children/ teenagers/ youths/ adults reached by the project through direct activities (indirect reach is not reported). • Double counting should be avoided. E.g. adults who are in SHG, PIP and Parenting should only be reported once under this indicator (but should also be reported under SHG, PIP and Parenting indicators separately). • If the overlap is unknown, the highest number should be reported to avoid double-counting. | J7: =AX7 -> 0 | P7: =AY7 -> 0 | AY7: =AZ7+BA7 -> 0 | BB7: =BC7+BD7 -> 0 | BK7: =CY7 -> 0 | BQ7: =CZ7 -> 0 | CZ7: =DA7+DB7 -> 0 | DC7: =DD7+DE7 -> 0 | DL7: =EZ7 -> 0 | DR7: =FA7 -> 0 | FA7: =FB7+FC7 -> 0 | FD7: =FE7+FF7 -> 0 | FM7: =HA7 -> 0 | FS7: =HB7 -> 0 | HB7: =HC7+HD7 -> 0 | HE7: =HF7+HG7 -> 0 | HN7: =JB7 -> 0 | HT7: =JC7 -> 0 | JC7: =JD7+JE7 -> 0 | JF7: =JG7+JH7 -> 0 | JO7: =LC7 -> 0 | JU7: =LD7 -> 0 | LD7: =LE7+LF7 -> 0 | LG7: =LH7+LI7 -> 0 | LP7: =ND7 -> 0 | LV7: =NE7 -> 0 | NE7: =NF7+NG7 -> 0 | NH7: =NI7+NJ7 -> 0
B8: 11. | C8: Total # of children (8-12) reached by direct activities (without double counting) | J8: =AX8 -> 0 | P8: =AY8 -> 0 | AY8: =AZ8+BA8 -> 0 | BB8: =BC8+BD8 -> 0 | BK8: =CY8 -> 0 | BQ8: =CZ8 -> 0 | CZ8: =DA8+DB8 -> 0 | DC8: =DD8+DE8 -> 0 | DL8: =EZ8 -> 0 | DR8: =FA8 -> 0 | FA8: =FB8+FC8 -> 0 | FD8: =FE8+FF8 -> 0 | FM8: =HA8 -> 0 | FS8: =HB8 -> 0 | HB8: =HC8+HD8 -> 0 | HE8: =HF8+HG8 -> 0 | HN8: =JB8 -> 0 | HT8: =JC8 -> 0 | JC8: =JD8+JE8 -> 0 | JF8: =JG8+JH8 -> 0 | JO8: =LC8 -> 0 | JU8: =LD8 -> 0 | LD8: =LE8+LF8 -> 0 | LG8: =LH8+LI8 -> 0 | LP8: =ND8 -> 0 | LV8: =NE8 -> 0 | NE8: =NF8+NG8 -> 0 | NH8: =NI8+NJ8 -> 0
B9: 16. | C9: Total # of adolescent/teenagers (13-17) reached by direct activities (without double counting) | J9: =AX9 -> 0 | P9: =AY9 -> 0 | AY9: =AZ9+BA9 -> 0 | BB9: =BC9+BD9 -> 0 | BK9: =CY9 -> 0 | BQ9: =CZ9 -> 0 | CZ9: =DA9+DB9 -> 0 | DC9: =DD9+DE9 -> 0 | DL9: =EZ9 -> 0 | DR9: =FA9 -> 0 | FA9: =FB9+FC9 -> 0 | FD9: =FE9+FF9 -> 0 | FM9: =HA9 -> 0 | FS9: =HB9 -> 0 | HB9: =HC9+HD9 -> 0 | HE9: =HF9+HG9 -> 0 | HN9: =JB9 -> 0 | HT9: =JC9 -> 0 | JC9: =JD9+JE9 -> 0 | JF9: =JG9+JH9 -> 0 | JO9: =LC9 -> 0 | JU9: =LD9 -> 0 | LD9: =LE9+LF9 -> 0 | LG9: =LH9+LI9 -> 0 | LP9: =ND9 -> 0 | LV9: =NE9 -> 0 | NE9: =NF9+NG9 -> 0 | NH9: =NI9+NJ9 -> 0
B10: 26. | C10: Total # of youth (18-35) reached by direct activities (without double counting) | J10: =AX10 -> 0 | P10: =AY10 -> 0 | AY10: =AZ10+BA10 -> 0 | BB10: =BC10+BD10 -> 0 | BK10: =CY10 -> 0 | BQ10: =CZ10 -> 0 | CZ10: =DA10+DB10 -> 0 | DC10: =DD10+DE10 -> 0 | DL10: =EZ10 -> 0 | DR10: =FA10 -> 0 | FA10: =FB10+FC10 -> 0 | FD10: =FE10+FF10 -> 0 | FM10: =HA10 -> 0 | FS10: =HB10 -> 0 | HB10: =HC10+HD10 -> 0 | HE10: =HF10+HG10 -> 0 | HN10: =JB10 -> 0 | HT10: =JC10 -> 0 | JC10: =JD10+JE10 -> 0 | JF10: =JG10+JH10 -> 0 | JO10: =LC10 -> 0 | JU10: =LD10 -> 0 | LD10: =LE10+LF10 -> 0 | LG10: =LH10+LI10 -> 0 | LP10: =ND10 -> 0 | LV10: =NE10 -> 0 | NE10: =NF10+NG10 -> 0 | NH10: =NI10+NJ10 -> 0
B11: 40. | C11: Total # of adults (>35) reached by direct activities (without double counting) | J11: =AX11 -> 0 | P11: =AY11 -> 0 | AY11: =AZ11+BA11 -> 0 | BB11: =BC11+BD11 -> 0 | BK11: =CY11 -> 0 | BQ11: =CZ11 -> 0 | CZ11: =DA11+DB11 -> 0 | DC11: =DD11+DE11 -> 0 | DL11: =EZ11 -> 0 | DR11: =FA11 -> 0 | FA11: =FB11+FC11 -> 0 | FD11: =FE11+FF11 -> 0 | FM11: =HA11 -> 0 | FS11: =HB11 -> 0 | HB11: =HC11+HD11 -> 0 | HE11: =HF11+HG11 -> 0 | HN11: =JB11 -> 0 | HT11: =JC11 -> 0 | JC11: =JD11+JE11 -> 0 | JF11: =JG11+JH11 -> 0 | JO11: =LC11 -> 0 | JU11: =LD11 -> 0 | LD11: =LE11+LF11 -> 0 | LG11: =LH11+LI11 -> 0 | LP11: =ND11 -> 0 | LV11: =NE11 -> 0 | NE11: =NF11+NG11 -> 0 | NH11: =NI11+NJ11 -> 0
B13: Nr. | C13: Total project reach for the project duration | D13: Descriptions | F13: Q1 | G13: Q2 | H13: Q3 | I13: Q4 | J13: Total | L13: Q1 | M13: Q2 | N13: Q3 | O13: Q4 | P13: Total | R13: Planning | S13: Actual | T13: Total male | U13: Total female | V13: Total disability | W13: Male with disability | X13: Female with disability | Z13: Planning | AA13: Actual | AB13: Total male | AC13: Total female | AD13: Total disability | AE13: Male with disability | AF13: Female with disability | AH13: Planning | AI13: Actual | AJ13: Total male | AK13: Total female | AL13: Total disability | AM13: Male with disability | AN13: Female with disability | AP13: Planning | AQ13: Actual | AR13: Total male | AS13: Total female | AT13: Total disability | AU13: Male with disability | AV13: Female with disability | AX13: Planning | AY13: Actual | AZ13: Total male | BA13: Total female | BB13: Total disability | BC13: Male with disability | BD13: Female with disability | BG13: Q1 | BH13: Q2 | BI13: Q3 | BJ13: Q4 | BK13: Total | BM13: Q1 | BN13: Q2 | BO13: Q3 | BP13: Q4 | BQ13: Total | BS13: Planning | BT13: Actual | BU13: Total male | BV13: Total female | BW13: Total disability | BX13: Male with disability | BY13: Female with disability | CA13: Planning | CB13: Actual | CC13: Total male | CD13: Total female | CE13: Total disability | CF13: Male with disability | CG13: Female with disability | CI13: Planning | CJ13: Actual | CK13: Total male | CL13: Total female | CM13: Total disability | CN13: Male with disability | CO13: Female with disability | CQ13: Planning | CR13: Actual | CS13: Total male | CT13: Total female | CU13: Total disability | CV13: Male with disability | CW13: Female with disability | CY13: Planning | CZ13: Actual | DA13: Total male | DB13: Total female | DC13: Total disability | DD13: Male with disability | DE13: Female with disability | DH13: Q1 | DI13: Q2 | DJ13: Q3 | DK13: Q4 | DL13: Total | DN13: Q1 | DO13: Q2 | DP13: Q3 | DQ13: Q4 | DR13: Total | DT13: Planning | DU13: Actual | DV13: Total male | DW13: Total female | DX13: Total disability | DY13: Male with disability | DZ13: Female with disability | EB13: Planning | EC13: Actual | ED13: Total male | EE13: Total female | EF13: Total disability | EG13: Male with disability | EH13: Female with disability | EJ13: Planning | EK13: Actual | EL13: Total male | EM13: Total female | EN13: Total disability | EO13: Male with disability | EP13: Female with disability | ER13: Planning | ES13: Actual | ET13: Total male | EU13: Total female | EV13: Total disability | EW13: Male with disability | EX13: Female with disability | EZ13: Planning | FA13: Actual | FB13: Total male | FC13: Total female | FD13: Total disability | FE13: Male with disability | FF13: Female with disability | FI13: Q1 | FJ13: Q2 | FK13: Q3 | FL13: Q4 | FM13: Total | FO13: Q1 | FP13: Q2 | FQ13: Q3 | FR13: Q4 | FS13: Total | FU13: Planning | FV13: Actual | FW13: Total male | FX13: Total female | FY13: Total disability | FZ13: Male with disability | GA13: Female with disability | GC13: Planning | GD13: Actual | GE13: Total male | GF13: Total female | GG13: Total disability | GH13: Male with disability | GI13: Female with disability | GK13: Planning | GL13: Actual | GM13: Total male | GN13: Total female | GO13: Total disability | GP13: Male with disability | GQ13: Female with disability | GS13: Planning | GT13: Actual | GU13: Total male | GV13: Total female | GW13: Total disability | GX13: Male with disability | GY13: Female with disability | HA13: Planning | HB13: Actual | HC13: Total male | HD13: Total female | HE13: Total disability | HF13: Male with disability | HG13: Female with disability | HJ13: Q1 | HK13: Q2 | HL13: Q3 | HM13: Q4 | HN13: Total | HP13: Q1 | HQ13: Q2 | HR13: Q3 | HS13: Q4 | HT13: Total | HV13: Planning | HW13: Actual | HX13: Total male | HY13: Total female | HZ13: Total disability | IA13: Male with disability | IB13: Female with disability | ID13: Planning | IE13: Actual | IF13: Total male | IG13: Total female | IH13: Total disability | II13: Male with disability | IJ13: Female with disability | IL13: Planning | IM13: Actual | IN13: Total male | IO13: Total female | IP13: Total disability | IQ13: Male with disability | IR13: Female with disability | IT13: Planning | IU13: Actual | IV13: Total male | IW13: Total female | IX13: Total disability | IY13: Male with disability | IZ13: Female with disability | JB13: Planning | JC13: Actual | JD13: Total male | JE13: Total female | JF13: Total disability | JG13: Male with disability | JH13: Female with disability | JK13: Q1 | JL13: Q2 | JM13: Q3 | JN13: Q4 | JO13: Total | JQ13: Q1 | JR13: Q2 | JS13: Q3 | JT13: Q4 | JU13: Total | JW13: Planning | JX13: Actual | JY13: Total male | JZ13: Total female | KA13: Total disability | KB13: Male with disability | KC13: Female with disability | KE13: Planning | KF13: Actual | KG13: Total male | KH13: Total female | KI13: Total disability | KJ13: Male with disability | KK13: Female with disability | KM13: Planning | KN13: Actual | KO13: Total male | KP13: Total female | KQ13: Total disability | KR13: Male with disability | KS13: Female with disability | KU13: Planning | KV13: Actual | KW13: Total male | KX13: Total female | KY13: Total disability | KZ13: Male with disability | LA13: Female with disability | LC13: Planning | LD13: Actual | LE13: Total male | LF13: Total female | LG13: Total disability | LH13: Male with disability | LI13: Female with disability | LL13: Q1 | LM13: Q2 | LN13: Q3 | LO13: Q4 | LP13: Total | LR13: Q1 | LS13: Q2 | LT13: Q3 | LU13: Q4 | LV13: Total | LX13: Planning | LY13: Actual | LZ13: Total male | MA13: Total female | MB13: Total disability | MC13: Male with disability | MD13: Female with disability | MF13: Planning | MG13: Actual | MH13: Total male | MI13: Total female | MJ13: Total disability | MK13: Male with disability | ML13: Female with disability | MN13: Planning | MO13: Actual | MP13: Total male | MQ13: Total female | MR13: Total disability | MS13: Male with disability | MT13: Female with disability | MV13: Planning | MW13: Actual | MX13: Total male | MY13: Total female | MZ13: Total disability | NA13: Male with disability | NB13: Female with disability | ND13: Planning | NE13: Actual | NF13: Total male | NG13: Total female | NH13: Total disability | NI13: Male with disability | NJ13: Female with disability
B14: 77. | C14: Total # of young children (0-7) reached by direct activities (without double counting) for the total project duration | D14: Sum of reported reach in the previous year and new reach in the current year. | J14: =AX14 -> 0 | P14: =AY14 -> 0 | AX14: =AX7 -> 0 | AY14: =AY7 -> 0 | AZ14: =AZ7 -> 0 | BA14: =BA7 -> 0 | BB14: =BB7 -> 0 | BC14: =BC7 -> 0 | BD14: =BD7 -> 0 | BK14: =CY14 -> 0 | BQ14: =CZ14 -> 0 | CY14: =AY14+CY15 -> 0 | CZ14: =AY14+CZ15 -> 0 | DA14: =AZ14+DA15 -> 0 | DB14: =BA14+DB15 -> 0 | DC14: =BB14+DC15 -> 0 | DD14: =BC14+DD15 -> 0 | DE14: =BD14+DE15 -> 0 | DL14: =EZ14 -> 0 | DR14: =FA14 -> 0 | EZ14: =CZ14+EZ15 -> 0 | FA14: =CZ14+FA15 -> 0 | FB14: =DA14+FB15 -> 0 | FC14: =DB14+FC15 -> 0 | FD14: =DC14+FD15 -> 0 | FE14: =DD14+FE15 -> 0 | FF14: =DE14+FF15 -> 0 | FM14: =HA14 -> 0 | FS14: =HB14 -> 0 | HA14: =FA14+HA15 -> 0 | HB14: =FA14+HB15 -> 0 | HC14: =FB14+HC15 -> 0 | HD14: =FC14+HD15 -> 0 | HE14: =FD14+HE15 -> 0 | HF14: =FE14+HF15 -> 0 | HG14: =FF14+HG15 -> 0 | HN14: =JB14 -> 0 | HT14: =JC14 -> 0 | JB14: =HB14+JB15 -> 0 | JC14: =HB14+JC15 -> 0 | JD14: =HC14+JD15 -> 0 | JE14: =HD14+JE15 -> 0 | JF14: =HE14+JF15 -> 0 | JG14: =HF14+JG15 -> 0 | JH14: =HG14+JH15 -> 0 | JO14: =LC14 -> 0 | JU14: =LD14 -> 0 | LC14: =JC14+LC15 -> 0 | LD14: =JC14+LD15 -> 0 | LE14: =JD14+LE15 -> 0 | LF14: =JE14+LF15 -> 0 | LG14: =JF14+LG15 -> 0 | LH14: =JG14+LH15 -> 0 | LI14: =JH14+LI15 -> 0 | LP14: =ND14 -> 0 | LV14: =NE14 -> 0 | ND14: =LD14+ND15 -> 0 | NE14: =LD14+NE15 -> 0 | NF14: =LE14+NF15 -> 0 | NG14: =LF14+NG15 -> 0 | NH14: =LG14+NH15 -> 0 | NI14: =LH14+NI15 -> 0 | NJ14: =LI14+NJ15 -> 0
B15: 78. | C15: # of NEW young children (0-7) reached by direct activities (without double counting) for the total project duration | D15: Report only the young children who were not reached in previous project years. | J15: =AX15 -> 0 | P15: =AY15 -> 0 | AX15: =AX7 -> 0 | AY15: =AY7 -> 0 | AZ15: =AZ7 -> 0 | BA15: =BA7 -> 0 | BB15: =BB7 -> 0 | BC15: =BC7 -> 0 | BD15: =BD7 -> 0 | BK15: =CY15 -> 0 | BQ15: =CZ15 -> 0 | CZ15: =DA15+DB15 -> 0 | DC15: =DD15+DE15 -> 0 | DL15: =EZ15 -> 0 | DR15: =FA15 -> 0 | FA15: =FB15+FC15 -> 0 | FD15: =FE15+FF15 -> 0 | FM15: =HA15 -> 0 | FS15: =HB15 -> 0 | HB15: =HC15+HD15 -> 0 | HE15: =HF15+HG15 -> 0 | HN15: =JB15 -> 0 | HT15: =JC15 -> 0 | JC15: =JD15+JE15 -> 0 | JF15: =JG15+JH15 -> 0 | JO15: =LC15 -> 0 | JU15: =LD15 -> 0 | LD15: =LE15+LF15 -> 0 | LG15: =LH15+LI15 -> 0 | LP15: =ND15 -> 0 | LV15: =NE15 -> 0 | NE15: =NF15+NG15 -> 0 | NH15: =NI15+NJ15 -> 0
B16: 79. | C16: Total # of children (8-12) reached by direct activities (without double counting) for the total project duration | D16: Sum of reported reach in the previous year and new reach in the current year. | J16: =AX16 -> 0 | P16: =AY16 -> 0 | AX16: =AX8 -> 0 | AY16: =AY8 -> 0 | AZ16: =AZ8 -> 0 | BA16: =BA8 -> 0 | BB16: =BB8 -> 0 | BC16: =BC8 -> 0 | BD16: =BD8 -> 0 | BK16: =CY16 -> 0 | BQ16: =CZ16 -> 0 | CY16: =AY16+CY17 -> 0 | CZ16: =AY16+CZ17 -> 0 | DA16: =AZ16+DA17 -> 0 | DB16: =BA16+DB17 -> 0 | DC16: =BB16+DC17 -> 0 | DD16: =BC16+DD17 -> 0 | DE16: =BD16+DE17 -> 0 | DL16: =EZ16 -> 0 | DR16: =FA16 -> 0 | EZ16: =CZ16+EZ17 -> 0 | FA16: =CZ16+FA17 -> 0 | FB16: =DA16+FB17 -> 0 | FC16: =DB16+FC17 -> 0 | FD16: =DC16+FD17 -> 0 | FE16: =DD16+FE17 -> 0 | FF16: =DE16+FF17 -> 0 | FM16: =HA16 -> 0 | FS16: =HB16 -> 0 | HA16: =FA16+HA17 -> 0 | HB16: =FA16+HB17 -> 0 | HC16: =FB16+HC17 -> 0 | HD16: =FC16+HD17 -> 0 | HE16: =FD16+HE17 -> 0 | HF16: =FE16+HF17 -> 0 | HG16: =FF16+HG17 -> 0 | HN16: =JB16 -> 0 | HT16: =JC16 -> 0 | JB16: =HB16+JB17 -> 0 | JC16: =HB16+JC17 -> 0 | JD16: =HC16+JD17 -> 0 | JE16: =HD16+JE17 -> 0 | JF16: =HE16+JF17 -> 0 | JG16: =HF16+JG17 -> 0 | JH16: =HG16+JH17 -> 0 | JO16: =LC16 -> 0 | JU16: =LD16 -> 0 | LC16: =JC16+LC17 -> 0 | LD16: =JC16+LD17 -> 0 | LE16: =JD16+LE17 -> 0 | LF16: =JE16+LF17 -> 0 | LG16: =JF16+LG17 -> 0 | LH16: =JG16+LH17 -> 0 | LI16: =JH16+LI17 -> 0 | LP16: =ND16 -> 0 | LV16: =NE16 -> 0 | ND16: =LD16+ND17 -> 0 | NE16: =LD16+NE17 -> 0 | NF16: =LE16+NF17 -> 0 | NG16: =LF16+NG17 -> 0 | NH16: =LG16+NH17 -> 0 | NI16: =LH16+NI17 -> 0 | NJ16: =LI16+NJ17 -> 0
B17: 80. | C17: # of NEW children (8-12) reached by direct activities (without double counting) for the total project duration | D17: Report only the children who were not reached in previous project years. | J17: =AX17 -> 0 | P17: =AY17 -> 0 | AX17: =AX8 -> 0 | AY17: =AY8 -> 0 | AZ17: =AZ8 -> 0 | BA17: =BA8 -> 0 | BB17: =BB8 -> 0 | BC17: =BC8 -> 0 | BD17: =BD8 -> 0 | BK17: =CY17 -> 0 | BQ17: =CZ17 -> 0 | CZ17: =DA17+DB17 -> 0 | DC17: =DD17+DE17 -> 0 | DL17: =EZ17 -> 0 | DR17: =FA17 -> 0 | FA17: =FB17+FC17 -> 0 | FD17: =FE17+FF17 -> 0 | FM17: =HA17 -> 0 | FS17: =HB17 -> 0 | HB17: =HC17+HD17 -> 0 | HE17: =HF17+HG17 -> 0 | HN17: =JB17 -> 0 | HT17: =JC17 -> 0 | JC17: =JD17+JE17 -> 0 | JF17: =JG17+JH17 -> 0 | JO17: =LC17 -> 0 | JU17: =LD17 -> 0 | LD17: =LE17+LF17 -> 0 | LG17: =LH17+LI17 -> 0 | LP17: =ND17 -> 0 | LV17: =NE17 -> 0 | NE17: =NF17+NG17 -> 0 | NH17: =NI17+NJ17 -> 0
B18: 81. | C18: Total # of adolescents/teenagers (13-17) reached by direct activities (without double counting) for the total project duration | D18: Sum of reported reach in the previous year and new reach in the current year. | J18: =AX18 -> 0 | P18: =AY18 -> 0 | AX18: =AX9 -> 0 | AY18: =AY9 -> 0 | AZ18: =AZ9 -> 0 | BA18: =BA9 -> 0 | BB18: =BB9 -> 0 | BC18: =BC9 -> 0 | BD18: =BD9 -> 0 | BK18: =CY18 -> 0 | BQ18: =CZ18 -> 0 | CY18: =AY18+CY19 -> 0 | CZ18: =AY18+CZ19 -> 0 | DA18: =AZ18+DA19 -> 0 | DB18: =BA18+DB19 -> 0 | DC18: =BB18+DC19 -> 0 | DD18: =BC18+DD19 -> 0 | DE18: =BD18+DE19 -> 0 | DL18: =EZ18 -> 0 | DR18: =FA18 -> 0 | EZ18: =CZ18+EZ19 -> 0 | FA18: =CZ18+FA19 -> 0 | FB18: =DA18+FB19 -> 0 | FC18: =DB18+FC19 -> 0 | FD18: =DC18+FD19 -> 0 | FE18: =DD18+FE19 -> 0 | FF18: =DE18+FF19 -> 0 | FM18: =HA18 -> 0 | FS18: =HB18 -> 0 | HA18: =FA18+HA19 -> 0 | HB18: =FA18+HB19 -> 0 | HC18: =FB18+HC19 -> 0 | HD18: =FC18+HD19 -> 0 | HE18: =FD18+HE19 -> 0 | HF18: =FE18+HF19 -> 0 | HG18: =FF18+HG19 -> 0 | HN18: =JB18 -> 0 | HT18: =JC18 -> 0 | JB18: =HB18+JB19 -> 0 | JC18: =HB18+JC19 -> 0 | JD18: =HC18+JD19 -> 0 | JE18: =HD18+JE19 -> 0 | JF18: =HE18+JF19 -> 0 | JG18: =HF18+JG19 -> 0 | JH18: =HG18+JH19 -> 0 | JO18: =LC18 -> 0 | JU18: =LD18 -> 0 | LC18: =JC18+LC19 -> 0 | LD18: =JC18+LD19 -> 0 | LE18: =JD18+LE19 -> 0 | LF18: =JE18+LF19 -> 0 | LG18: =JF18+LG19 -> 0 | LH18: =JG18+LH19 -> 0 | LI18: =JH18+LI19 -> 0 | LP18: =ND18 -> 0 | LV18: =NE18 -> 0 | ND18: =LD18+ND19 -> 0 | NE18: =LD18+NE19 -> 0 | NF18: =LE18+NF19 -> 0 | NG18: =LF18+NG19 -> 0 | NH18: =LG18+NH19 -> 0 | NI18: =LH18+NI19 -> 0 | NJ18: =LI18+NJ19 -> 0
B19: 82. | C19: # of NEW adolescents/teenagers (13-17) reached by direct activities (without double counting) for the total project duration | D19: Report only the adolescents/teenagers who were not reached in previous project years. | J19: =AX19 -> 0 | P19: =AY19 -> 0 | AX19: =AX9 -> 0 | AY19: =AY9 -> 0 | AZ19: =AZ9 -> 0 | BA19: =BA9 -> 0 | BB19: =BB9 -> 0 | BC19: =BC9 -> 0 | BD19: =BD9 -> 0 | BK19: =CY19 -> 0 | BQ19: =CZ19 -> 0 | CZ19: =DA19+DB19 -> 0 | DC19: =DD19+DE19 -> 0 | DL19: =EZ19 -> 0 | DR19: =FA19 -> 0 | FA19: =FB19+FC19 -> 0 | FD19: =FE19+FF19 -> 0 | FM19: =HA19 -> 0 | FS19: =HB19 -> 0 | HB19: =HC19+HD19 -> 0 | HE19: =HF19+HG19 -> 0 | HN19: =JB19 -> 0 | HT19: =JC19 -> 0 | JC19: =JD19+JE19 -> 0 | JF19: =JG19+JH19 -> 0 | JO19: =LC19 -> 0 | JU19: =LD19 -> 0 | LD19: =LE19+LF19 -> 0 | LG19: =LH19+LI19 -> 0 | LP19: =ND19 -> 0 | LV19: =NE19 -> 0 | NE19: =NF19+NG19 -> 0 | NH19: =NI19+NJ19 -> 0
B20: 83. | C20: Total # of youth (18-35) reached by direct activities (without double counting) for the total project duration | D20: Sum of reported reach in the previous year and new reach in the current year. | J20: =AX20 -> 0 | P20: =AY20 -> 0 | AX20: =AX10 -> 0 | AY20: =AY10 -> 0 | AZ20: =AZ10 -> 0 | BA20: =BA10 -> 0 | BB20: =BB10 -> 0 | BC20: =BC10 -> 0 | BD20: =BD10 -> 0 | BK20: =CY20 -> 0 | BQ20: =CZ20 -> 0 | CY20: =AY20+CY21 -> 0 | CZ20: =AY20+CZ21 -> 0 | DA20: =AZ20+DA21 -> 0 | DB20: =BA20+DB21 -> 0 | DC20: =BB20+DC21 -> 0 | DD20: =BC20+DD21 -> 0 | DE20: =BD20+DE21 -> 0 | DL20: =EZ20 -> 0 | DR20: =FA20 -> 0 | EZ20: =CZ20+EZ21 -> 0 | FA20: =CZ20+FA21 -> 0 | FB20: =DA20+FB21 -> 0 | FC20: =DB20+FC21 -> 0 | FD20: =DC20+FD21 -> 0 | FE20: =DD20+FE21 -> 0 | FF20: =DE20+FF21 -> 0 | FM20: =HA20 -> 0 | FS20: =HB20 -> 0 | HA20: =FA20+HA21 -> 0 | HB20: =FA20+HB21 -> 0 | HC20: =FB20+HC21 -> 0 | HD20: =FC20+HD21 -> 0 | HE20: =FD20+HE21 -> 0 | HF20: =FE20+HF21 -> 0 | HG20: =FF20+HG21 -> 0 | HN20: =JB20 -> 0 | HT20: =JC20 -> 0 | JB20: =HB20+JB21 -> 0 | JC20: =HB20+JC21 -> 0 | JD20: =HC20+JD21 -> 0 | JE20: =HD20+JE21 -> 0 | JF20: =HE20+JF21 -> 0 | JG20: =HF20+JG21 -> 0 | JH20: =HG20+JH21 -> 0 | JO20: =LC20 -> 0 | JU20: =LD20 -> 0 | LC20: =JC20+LC21 -> 0 | LD20: =JC20+LD21 -> 0 | LE20: =JD20+LE21 -> 0 | LF20: =JE20+LF21 -> 0 | LG20: =JF20+LG21 -> 0 | LH20: =JG20+LH21 -> 0 | LI20: =JH20+LI21 -> 0 | LP20: =ND20 -> 0 | LV20: =NE20 -> 0 | ND20: =LD20+ND21 -> 0 | NE20: =LD20+NE21 -> 0 | NF20: =LE20+NF21 -> 0 | NG20: =LF20+NG21 -> 0 | NH20: =LG20+NH21 -> 0 | NI20: =LH20+NI21 -> 0 | NJ20: =LI20+NJ21 -> 0
B21: 84. | C21: # of NEW youth (18-35) reached by direct activities (without double counting) for the total project duration | D21: Report only the youth who were not reached in previous project years. | J21: =AX21 -> 0 | P21: =AY21 -> 0 | AX21: =AX10 -> 0 | AY21: =AY10 -> 0 | AZ21: =AZ10 -> 0 | BA21: =BA10 -> 0 | BB21: =BB10 -> 0 | BC21: =BC10 -> 0 | BD21: =BD10 -> 0 | BK21: =CY21 -> 0 | BQ21: =CZ21 -> 0 | CZ21: =DA21+DB21 -> 0 | DC21: =DD21+DE21 -> 0 | DL21: =EZ21 -> 0 | DR21: =FA21 -> 0 | FA21: =FB21+FC21 -> 0 | FD21: =FE21+FF21 -> 0 | FM21: =HA21 -> 0 | FS21: =HB21 -> 0 | HB21: =HC21+HD21 -> 0 | HE21: =HF21+HG21 -> 0 | HN21: =JB21 -> 0 | HT21: =JC21 -> 0 | JC21: =JD21+JE21 -> 0 | JF21: =JG21+JH21 -> 0 | JO21: =LC21 -> 0 | JU21: =LD21 -> 0 | LD21: =LE21+LF21 -> 0 | LG21: =LH21+LI21 -> 0 | LP21: =ND21 -> 0 | LV21: =NE21 -> 0 | NE21: =NF21+NG21 -> 0 | NH21: =NI21+NJ21 -> 0
B22: 85. | C22: Total # of adults (>35) reached by direct activities (without double counting) for the total project duration | D22: Sum of reported reach in the previous year and new reach in the current year. | J22: =AX22 -> 0 | P22: =AY22 -> 0 | AX22: =AX11 -> 0 | AY22: =AY11 -> 0 | AZ22: =AZ11 -> 0 | BA22: =BA11 -> 0 | BB22: =BB11 -> 0 | BC22: =BC11 -> 0 | BD22: =BD11 -> 0 | BK22: =CY22 -> 0 | BQ22: =CZ22 -> 0 | CY22: =AY22+CY23 -> 0 | CZ22: =AY22+CZ23 -> 0 | DA22: =AZ22+DA23 -> 0 | DB22: =BA22+DB23 -> 0 | DC22: =BB22+DC23 -> 0 | DD22: =BC22+DD23 -> 0 | DE22: =BD22+DE23 -> 0 | DL22: =EZ22 -> 0 | DR22: =FA22 -> 0 | EZ22: =CZ22+EZ23 -> 0 | FA22: =CZ22+FA23 -> 0 | FB22: =DA22+FB23 -> 0 | FC22: =DB22+FC23 -> 0 | FD22: =DC22+FD23 -> 0 | FE22: =DD22+FE23 -> 0 | FF22: =DE22+FF23 -> 0 | FM22: =HA22 -> 0 | FS22: =HB22 -> 0 | HA22: =FA22+HA23 -> 0 | HB22: =FA22+HB23 -> 0 | HC22: =FB22+HC23 -> 0 | HD22: =FC22+HD23 -> 0 | HE22: =FD22+HE23 -> 0 | HF22: =FE22+HF23 -> 0 | HG22: =FF22+HG23 -> 0 | HN22: =JB22 -> 0 | HT22: =JC22 -> 0 | JB22: =HB22+JB23 -> 0 | JC22: =HB22+JC23 -> 0 | JD22: =HC22+JD23 -> 0 | JE22: =HD22+JE23 -> 0 | JF22: =HE22+JF23 -> 0 | JG22: =HF22+JG23 -> 0 | JH22: =HG22+JH23 -> 0 | JO22: =LC22 -> 0 | JU22: =LD22 -> 0 | LC22: =JC22+LC23 -> 0 | LD22: =JC22+LD23 -> 0 | LE22: =JD22+LE23 -> 0 | LF22: =JE22+LF23 -> 0 | LG22: =JF22+LG23 -> 0 | LH22: =JG22+LH23 -> 0 | LI22: =JH22+LI23 -> 0 | LP22: =ND22 -> 0 | LV22: =NE22 -> 0 | ND22: =LD22+ND23 -> 0 | NE22: =LD22+NE23 -> 0 | NF22: =LE22+NF23 -> 0 | NG22: =LF22+NG23 -> 0 | NH22: =LG22+NH23 -> 0 | NI22: =LH22+NI23 -> 0 | NJ22: =LI22+NJ23 -> 0
B23: 86. | C23: # of NEW adults (>35) reached by direct activities (without double counting) for the total project duration | D23: Report only the adults who were not reached in previous project years. | J23: =AX23 -> 0 | P23: =AY23 -> 0 | AX23: =AX12 -> 0 | AY23: =AY12 -> 0 | AZ23: =AZ12 -> 0 | BA23: =BA12 -> 0 | BB23: =BB12 -> 0 | BC23: =BC12 -> 0 | BD23: =BD12 -> 0 | BK23: =CY23 -> 0 | BQ23: =CZ23 -> 0 | CZ23: =DA23+DB23 -> 0 | DC23: =DD23+DE23 -> 0 | DL23: =EZ23 -> 0 | DR23: =FA23 -> 0 | FA23: =FB23+FC23 -> 0 | FD23: =FE23+FF23 -> 0 | FM23: =HA23 -> 0 | FS23: =HB23 -> 0 | HB23: =HC23+HD23 -> 0 | HE23: =HF23+HG23 -> 0 | HN23: =JB23 -> 0 | HT23: =JC23 -> 0 | JC23: =JD23+JE23 -> 0 | JF23: =JG23+JH23 -> 0 | JO23: =LC23 -> 0 | JU23: =LD23 -> 0 | LD23: =LE23+LF23 -> 0 | LG23: =LH23+LI23 -> 0 | LP23: =ND23 -> 0 | LV23: =NE23 -> 0 | NE23: =NF23+NG23 -> 0 | NH23: =NI23+NJ23 -> 0
B25: Nr. | C25: Groups/ members | D25: Descriptions | F25: Q1 | G25: Q2 | H25: Q3 | I25: Q4 | J25: Total | L25: Q1 | M25: Q2 | N25: Q3 | O25: Q4 | P25: Total | R25: Planning | S25: Actual | T25: Total male | U25: Total female | V25: Total disability | W25: Male with disability | X25: Female with disability | Z25: Planning | AA25: Actual | AB25: Total male | AC25: Total female | AD25: Total disability | AE25: Male with disability | AF25: Female with disability | AH25: Planning | AI25: Actual | AJ25: Total male | AK25: Total female | AL25: Total disability | AM25: Male with disability | AN25: Female with disability | AP25: Planning | AQ25: Actual | AR25: Total male | AS25: Total female | AT25: Total disability | AU25: Male with disability | AV25: Female with disability | AX25: Planning | AY25: Actual | AZ25: Total male | BA25: Total female | BB25: Total disability | BC25: Male with disability | BD25: Female with disability | BG25: Q1 | BH25: Q2 | BI25: Q3 | BJ25: Q4 | BK25: Total | BM25: Q1 | BN25: Q2 | BO25: Q3 | BP25: Q4 | BQ25: Total | BS25: Planning | BT25: Actual | BU25: Total male | BV25: Total female | BW25: Total disability | BX25: Male with disability | BY25: Female with disability | CA25: Planning | CB25: Actual | CC25: Total male | CD25: Total female | CE25: Total disability | CF25: Male with disability | CG25: Female with disability | CI25: Planning | CJ25: Actual | CK25: Total male | CL25: Total female | CM25: Total disability | CN25: Male with disability | CO25: Female with disability | CQ25: Planning | CR25: Actual | CS25: Total male | CT25: Total female | CU25: Total disability | CV25: Male with disability | CW25: Female with disability | CY25: Planning | CZ25: Actual | DA25: Total male | DB25: Total female | DC25: Total disability | DD25: Male with disability | DE25: Female with disability | DH25: Q1 | DI25: Q2 | DJ25: Q3 | DK25: Q4 | DL25: Total | DN25: Q1 | DO25: Q2 | DP25: Q3 | DQ25: Q4 | DR25: Total | DT25: Planning | DU25: Actual | DV25: Total male | DW25: Total female | DX25: Total disability | DY25: Male with disability | DZ25: Female with disability | EB25: Planning | EC25: Actual | ED25: Total male | EE25: Total female | EF25: Total disability | EG25: Male with disability | EH25: Female with disability | EJ25: Planning | EK25: Actual | EL25: Total male | EM25: Total female | EN25: Total disability | EO25: Male with disability | EP25: Female with disability | ER25: Planning | ES25: Actual | ET25: Total male | EU25: Total female | EV25: Total disability | EW25: Male with disability | EX25: Female with disability | EZ25: Planning | FA25: Actual | FB25: Total male | FC25: Total female | FD25: Total disability | FE25: Male with disability | FF25: Female with disability | FI25: Q1 | FJ25: Q2 | FK25: Q3 | FL25: Q4 | FM25: Total | FO25: Q1 | FP25: Q2 | FQ25: Q3 | FR25: Q4 | FS25: Total | FU25: Planning | FV25: Actual | FW25: Total male | FX25: Total female | FY25: Total disability | FZ25: Male with disability | GA25: Female with disability | GC25: Planning | GD25: Actual | GE25: Total male | GF25: Total female | GG25: Total disability | GH25: Male with disability | GI25: Female with disability | GK25: Planning | GL25: Actual | GM25: Total male | GN25: Total female | GO25: Total disability | GP25: Male with disability | GQ25: Female with disability | GS25: Planning | GT25: Actual | GU25: Total male | GV25: Total female | GW25: Total disability | GX25: Male with disability | GY25: Female with disability | HA25: Planning | HB25: Actual | HC25: Total male | HD25: Total female | HE25: Total disability | HF25: Male with disability | HG25: Female with disability | HJ25: Q1 | HK25: Q2 | HL25: Q3 | HM25: Q4 | HN25: Total | HP25: Q1 | HQ25: Q2 | HR25: Q3 | HS25: Q4 | HT25: Total | HV25: Planning | HW25: Actual | HX25: Total male | HY25: Total female | HZ25: Total disability | IA25: Male with disability | IB25: Female with disability | ID25: Planning | IE25: Actual | IF25: Total male | IG25: Total female | IH25: Total disability | II25: Male with disability | IJ25: Female with disability | IL25: Planning | IM25: Actual | IN25: Total male | IO25: Total female | IP25: Total disability | IQ25: Male with disability | IR25: Female with disability | IT25: Planning | IU25: Actual | IV25: Total male | IW25: Total female | IX25: Total disability | IY25: Male with disability | IZ25: Female with disability | JB25: Planning | JC25: Actual | JD25: Total male | JE25: Total female | JF25: Total disability | JG25: Male with disability | JH25: Female with disability | JK25: Q1 | JL25: Q2 | JM25: Q3 | JN25: Q4 | JO25: Total | JQ25: Q1 | JR25: Q2 | JS25: Q3 | JT25: Q4 | JU25: Total | JW25: Planning | JX25: Actual | JY25: Total male | JZ25: Total female | KA25: Total disability | KB25: Male with disability | KC25: Female with disability | KE25: Planning | KF25: Actual | KG25: Total male | KH25: Total female | KI25: Total disability | KJ25: Male with disability | KK25: Female with disability | KM25: Planning | KN25: Actual | KO25: Total male | KP25: Total female | KQ25: Total disability | KR25: Male with disability | KS25: Female with disability | KU25: Planning | KV25: Actual | KW25: Total male | KX25: Total female | KY25: Total disability | KZ25: Male with disability | LA25: Female with disability | LC25: Planning | LD25: Actual | LE25: Total male | LF25: Total female | LG25: Total disability | LH25: Male with disability | LI25: Female with disability | LL25: Q1 | LM25: Q2 | LN25: Q3 | LO25: Q4 | LP25: Total | LR25: Q1 | LS25: Q2 | LT25: Q3 | LU25: Q4 | LV25: Total | LX25: Planning | LY25: Actual | LZ25: Total male | MA25: Total female | MB25: Total disability | MC25: Male with disability | MD25: Female with disability | MF25: Planning | MG25: Actual | MH25: Total male | MI25: Total female | MJ25: Total disability | MK25: Male with disability | ML25: Female with disability | MN25: Planning | MO25: Actual | MP25: Total male | MQ25: Total female | MR25: Total disability | MS25: Male with disability | MT25: Female with disability | MV25: Planning | MW25: Actual | MX25: Total male | MY25: Total female | MZ25: Total disability | NA25: Male with disability | NB25: Female with disability | ND25: Planning | NE25: Actual | NF25: Total male | NG25: Total female | NH25: Total disability | NI25: Male with disability | NJ25: Female with disability
B26: 27. | C26: # of SHGs supported | D26: Self-help groups supported by the project | J26: =AX26 -> 0 | P26: =AY26 -> 0 | BG26: =BS26 -> 0 | BH26: =CA26 -> 0 | BI26: =CI26 -> 0 | BJ26: =CQ26 -> 0 | BK26: =CY26 -> 0 | BM26: =BT26 -> 0 | BN26: =CB26 -> 0 | BO26: =CJ26 -> 0 | BP26: =CR26 -> 0 | BQ26: =CZ26 -> 0 | DH26: =DT26 -> 0 | DI26: =EB26 -> 0 | DJ26: =EJ26 -> 0 | DK26: =ER26 -> 0 | DL26: =EZ26 -> 0 | DN26: =DU26 -> 0 | DO26: =EC26 -> 0 | DP26: =EK26 -> 0 | DQ26: =ES26 -> 0 | DR26: =FA26 -> 0 | FI26: =FU26 -> 0 | FJ26: =GC26 -> 0 | FK26: =GK26 -> 0 | FL26: =GS26 -> 0 | FM26: =HA26 -> 0 | FO26: =FV26 -> 0 | FP26: =GD26 -> 0 | FQ26: =GL26 -> 0 | FR26: =GT26 -> 0 | FS26: =HB26 -> 0 | HJ26: =HV26 -> 0 | HK26: =ID26 -> 0 | HL26: =IL26 -> 0 | HM26: =IT26 -> 0 | HN26: =JB26 -> 0 | HP26: =HW26 -> 0 | HQ26: =IE26 -> 0 | HR26: =IM26 -> 0 | HS26: =IU26 -> 0 | HT26: =JC26 -> 0 | JK26: =JW26 -> 0 | JL26: =KE26 -> 0 | JM26: =KM26 -> 0 | JN26: =KU26 -> 0 | JO26: =LC26 -> 0 | JQ26: =JX26 -> 0 | JR26: =KF26 -> 0 | JS26: =KN26 -> 0 | JT26: =KV26 -> 0 | JU26: =LD26 -> 0 | LL26: =LX26 -> 0 | LM26: =MF26 -> 0 | LN26: =MN26 -> 0 | LO26: =MV26 -> 0 | LP26: =ND26 -> 0 | LR26: =LY26 -> 0 | LS26: =MG26 -> 0 | LT26: =MO26 -> 0 | LU26: =MW26 -> 0 | LV26: =NE26 -> 0
B27: 28. | C27: # of SHG MEMBERS IN supported groups | D27: Number of members in project supported Self-help groups | J27: =AX27 -> 0 | P27: =AY27 -> 0 | AY27: =AZ27+BA27 -> 0 | BB27: =BC27+BD27 -> 0 | BG27: =BS27 -> 0 | BH27: =CA27 -> 0 | BI27: =CI27 -> 0 | BJ27: =CQ27 -> 0 | BK27: =CY27 -> 0 | BM27: =BT27 -> 0 | BN27: =CB27 -> 0 | BO27: =CJ27 -> 0 | BP27: =CR27 -> 0 | BQ27: =CZ27 -> 0 | BT27: =BU27+BV27 -> 0 | BW27: =BX27+BY27 -> 0 | CB27: =CC27+CD27 -> 0 | CE27: =CF27+CG27 -> 0 | CJ27: =CK27+CL27 -> 0 | CM27: =CN27+CO27 -> 0 | CR27: =CS27+CT27 -> 0 | CU27: =CV27+CW27 -> 0 | CZ27: =DA27+DB27 -> 0 | DC27: =DD27+DE27 -> 0 | DH27: =DT27 -> 0 | DI27: =EB27 -> 0 | DJ27: =EJ27 -> 0 | DK27: =ER27 -> 0 | DL27: =EZ27 -> 0 | DN27: =DU27 -> 0 | DO27: =EC27 -> 0 | DP27: =EK27 -> 0 | DQ27: =ES27 -> 0 | DR27: =FA27 -> 0 | DU27: =DV27+DW27 -> 0 | DX27: =DY27+DZ27 -> 0 | EC27: =ED27+EE27 -> 0 | EF27: =EG27+EH27 -> 0 | EK27: =EL27+EM27 -> 0 | EN27: =EO27+EP27 -> 0 | ES27: =ET27+EU27 -> 0 | EV27: =EW27+EX27 -> 0 | FA27: =FB27+FC27 -> 0 | FD27: =FE27+FF27 -> 0 | FI27: =FU27 -> 0 | FJ27: =GC27 -> 0 | FK27: =GK27 -> 0 | FL27: =GS27 -> 0 | FM27: =HA27 -> 0 | FO27: =FV27 -> 0 | FP27: =GD27 -> 0 | FQ27: =GL27 -> 0 | FR27: =GT27 -> 0 | FS27: =HB27 -> 0 | FV27: =FW27+FX27 -> 0 | FY27: =FZ27+GA27 -> 0 | GD27: =GE27+GF27 -> 0 | GG27: =GH27+GI27 -> 0 | GL27: =GM27+GN27 -> 0 | GO27: =GP27+GQ27 -> 0 | GT27: =GU27+GV27 -> 0 | GW27: =GX27+GY27 -> 0 | HB27: =HC27+HD27 -> 0 | HE27: =HF27+HG27 -> 0 | HJ27: =HV27 -> 0 | HK27: =ID27 -> 0 | HL27: =IL27 -> 0 | HM27: =IT27 -> 0 | HN27: =JB27 -> 0 | HP27: =HW27 -> 0 | HQ27: =IE27 -> 0 | HR27: =IM27 -> 0 | HS27: =IU27 -> 0 | HT27: =JC27 -> 0 | HW27: =HX27+HY27 -> 0 | HZ27: =IA27+IB27 -> 0 | IE27: =IF27+IG27 -> 0 | IH27: =II27+IJ27 -> 0 | IM27: =IN27+IO27 -> 0 | IP27: =IQ27+IR27 -> 0 | IU27: =IV27+IW27 -> 0 | IX27: =IY27+IZ27 -> 0 | JC27: =JD27+JE27 -> 0 | JF27: =JG27+JH27 -> 0 | JK27: =JW27 -> 0 | JL27: =KE27 -> 0 | JM27: =KM27 -> 0 | JN27: =KU27 -> 0 | JO27: =LC27 -> 0 | JQ27: =JX27 -> 0 | JR27: =KF27 -> 0 | JS27: =KN27 -> 0 | JT27: =KV27 -> 0 | JU27: =LD27 -> 0 | JX27: =JY27+JZ27 -> 0 | KA27: =KB27+KC27 -> 0 | KF27: =KG27+KH27 -> 0 | KI27: =KJ27+KK27 -> 0 | KN27: =KO27+KP27 -> 0 | KQ27: =KR27+KS27 -> 0 | KV27: =KW27+KX27 -> 0 | KY27: =KZ27+LA27 -> 0 | LD27: =LE27+LF27 -> 0 | LG27: =LH27+LI27 -> 0 | LL27: =LX27 -> 0 | LM27: =MF27 -> 0 | LN27: =MN27 -> 0 | LO27: =MV27 -> 0 | LP27: =ND27 -> 0 | LR27: =LY27 -> 0 | LS27: =MG27 -> 0 | LT27: =MO27 -> 0 | LU27: =MW27 -> 0 | LV27: =NE27 -> 0 | LY27: =LZ27+MA27 -> 0 | MB27: =MC27+MD27 -> 0 | MG27: =MH27+MI27 -> 0 | MJ27: =MK27+ML27 -> 0 | MO27: =MP27+MQ27 -> 0 | MR27: =MS27+MT27 -> 0 | MW27: =MX27+MY27 -> 0 | MZ27: =NA27+NB27 -> 0 | NE27: =NF27+NG27 -> 0 | NH27: =NI27+NJ27 -> 0
B28: 5. | C28: # of children groups (8-12 year old) supported in the community | D28: Number of children’s groups supported by the project, in the indicative age group of 8–12 years (age group not fixed). | J28: =AX28 -> 0 | P28: =AY28 -> 0 | BG28: =BS28 -> 0 | BH28: =CA28 -> 0 | BI28: =CI28 -> 0 | BJ28: =CQ28 -> 0 | BK28: =CY28 -> 0 | BM28: =BT28 -> 0 | BN28: =CB28 -> 0 | BO28: =CJ28 -> 0 | BP28: =CR28 -> 0 | BQ28: =CZ28 -> 0 | DH28: =DT28 -> 0 | DI28: =EB28 -> 0 | DJ28: =EJ28 -> 0 | DK28: =ER28 -> 0 | DL28: =EZ28 -> 0 | DN28: =DU28 -> 0 | DO28: =EC28 -> 0 | DP28: =EK28 -> 0 | DQ28: =ES28 -> 0 | DR28: =FA28 -> 0 | FI28: =FU28 -> 0 | FJ28: =GC28 -> 0 | FK28: =GK28 -> 0 | FL28: =GS28 -> 0 | FM28: =HA28 -> 0 | FO28: =FV28 -> 0 | FP28: =GD28 -> 0 | FQ28: =GL28 -> 0 | FR28: =GT28 -> 0 | FS28: =HB28 -> 0 | HJ28: =HV28 -> 0 | HK28: =ID28 -> 0 | HL28: =IL28 -> 0 | HM28: =IT28 -> 0 | HN28: =JB28 -> 0 | HP28: =HW28 -> 0 | HQ28: =IE28 -> 0 | HR28: =IM28 -> 0 | HS28: =IU28 -> 0 | HT28: =JC28 -> 0 | JK28: =JW28 -> 0 | JL28: =KE28 -> 0 | JM28: =KM28 -> 0 | JN28: =KU28 -> 0 | JO28: =LC28 -> 0 | JQ28: =JX28 -> 0 | JR28: =KF28 -> 0 | JS28: =KN28 -> 0 | JT28: =KV28 -> 0 | JU28: =LD28 -> 0 | LL28: =LX28 -> 0 | LM28: =MF28 -> 0 | LN28: =MN28 -> 0 | LO28: =MV28 -> 0 | LP28: =ND28 -> 0 | LR28: =LY28 -> 0 | LS28: =MG28 -> 0 | LT28: =MO28 -> 0 | LU28: =MW28 -> 0 | LV28: =NE28 -> 0
B29: 6. | C29: # of children group MEMBERS IN supported (8-12 year old groups) | D29: Number of children in children’s groups supported by the project, in the indicative age group of 8–12 years (age group not fixed). | J29: =AX29 -> 0 | P29: =AY29 -> 0 | AY29: =AZ29+BA29 -> 0 | BB29: =BC29+BD29 -> 0 | BG29: =BS29 -> 0 | BH29: =CA29 -> 0 | BI29: =CI29 -> 0 | BJ29: =CQ29 -> 0 | BK29: =CY29 -> 0 | BM29: =BT29 -> 0 | BN29: =CB29 -> 0 | BO29: =CJ29 -> 0 | BP29: =CR29 -> 0 | BQ29: =CZ29 -> 0 | BT29: =BU29+BV29 -> 0 | BW29: =BX29+BY29 -> 0 | CB29: =CC29+CD29 -> 0 | CE29: =CF29+CG29 -> 0 | CJ29: =CK29+CL29 -> 0 | CM29: =CN29+CO29 -> 0 | CR29: =CS29+CT29 -> 0 | CU29: =CV29+CW29 -> 0 | CZ29: =DA29+DB29 -> 0 | DC29: =DD29+DE29 -> 0 | DH29: =DT29 -> 0 | DI29: =EB29 -> 0 | DJ29: =EJ29 -> 0 | DK29: =ER29 -> 0 | DL29: =EZ29 -> 0 | DN29: =DU29 -> 0 | DO29: =EC29 -> 0 | DP29: =EK29 -> 0 | DQ29: =ES29 -> 0 | DR29: =FA29 -> 0 | DU29: =DV29+DW29 -> 0 | DX29: =DY29+DZ29 -> 0 | EC29: =ED29+EE29 -> 0 | EF29: =EG29+EH29 -> 0 | EK29: =EL29+EM29 -> 0 | EN29: =EO29+EP29 -> 0 | ES29: =ET29+EU29 -> 0 | EV29: =EW29+EX29 -> 0 | FA29: =FB29+FC29 -> 0 | FD29: =FE29+FF29 -> 0 | FI29: =FU29 -> 0 | FJ29: =GC29 -> 0 | FK29: =GK29 -> 0 | FL29: =GS29 -> 0 | FM29: =HA29 -> 0 | FO29: =FV29 -> 0 | FP29: =GD29 -> 0 | FQ29: =GL29 -> 0 | FR29: =GT29 -> 0 | FS29: =HB29 -> 0 | FV29: =FW29+FX29 -> 0 | FY29: =FZ29+GA29 -> 0 | GD29: =GE29+GF29 -> 0 | GG29: =GH29+GI29 -> 0 | GL29: =GM29+GN29 -> 0 | GO29: =GP29+GQ29 -> 0 | GT29: =GU29+GV29 -> 0 | GW29: =GX29+GY29 -> 0 | HB29: =HC29+HD29 -> 0 | HE29: =HF29+HG29 -> 0 | HJ29: =HV29 -> 0 | HK29: =ID29 -> 0 | HL29: =IL29 -> 0 | HM29: =IT29 -> 0 | HN29: =JB29 -> 0 | HP29: =HW29 -> 0 | HQ29: =IE29 -> 0 | HR29: =IM29 -> 0 | HS29: =IU29 -> 0 | HT29: =JC29 -> 0 | HW29: =HX29+HY29 -> 0 | HZ29: =IA29+IB29 -> 0 | IE29: =IF29+IG29 -> 0 | IH29: =II29+IJ29 -> 0 | IM29: =IN29+IO29 -> 0 | IP29: =IQ29+IR29 -> 0 | IU29: =IV29+IW29 -> 0 | IX29: =IY29+IZ29 -> 0 | JC29: =JD29+JE29 -> 0 | JF29: =JG29+JH29 -> 0 | JK29: =JW29 -> 0 | JL29: =KE29 -> 0 | JM29: =KM29 -> 0 | JN29: =KU29 -> 0 | JO29: =LC29 -> 0 | JQ29: =JX29 -> 0 | JR29: =KF29 -> 0 | JS29: =KN29 -> 0 | JT29: =KV29 -> 0 | JU29: =LD29 -> 0 | JX29: =JY29+JZ29 -> 0 | KA29: =KB29+KC29 -> 0 | KF29: =KG29+KH29 -> 0 | KI29: =KJ29+KK29 -> 0 | KN29: =KO29+KP29 -> 0 | KQ29: =KR29+KS29 -> 0 | KV29: =KW29+KX29 -> 0 | KY29: =KZ29+LA29 -> 0 | LD29: =LE29+LF29 -> 0 | LG29: =LH29+LI29 -> 0 | LL29: =LX29 -> 0 | LM29: =MF29 -> 0 | LN29: =MN29 -> 0 | LO29: =MV29 -> 0 | LP29: =ND29 -> 0 | LR29: =LY29 -> 0 | LS29: =MG29 -> 0 | LT29: =MO29 -> 0 | LU29: =MW29 -> 0 | LV29: =NE29 -> 0 | LY29: =LZ29+MA29 -> 0 | MB29: =MC29+MD29 -> 0 | MG29: =MH29+MI29 -> 0 | MJ29: =MK29+ML29 -> 0 | MO29: =MP29+MQ29 -> 0 | MR29: =MS29+MT29 -> 0 | MW29: =MX29+MY29 -> 0 | MZ29: =NA29+NB29 -> 0 | NE29: =NF29+NG29 -> 0 | NH29: =NI29+NJ29 -> 0
B30: 12. | C30: # of adolescent/teenager (13-17 year old) groups supported in the community | D30: Number of adolescents/ teenagers groups supported by the project, in the indicative age group of 13-17 years (age group not fixed). | J30: =AX30 -> 0 | P30: =AY30 -> 0 | BG30: =BS30 -> 0 | BH30: =CA30 -> 0 | BI30: =CI30 -> 0 | BJ30: =CQ30 -> 0 | BK30: =CY30 -> 0 | BM30: =BT30 -> 0 | BN30: =CB30 -> 0 | BO30: =CJ30 -> 0 | BP30: =CR30 -> 0 | BQ30: =CZ30 -> 0 | DH30: =DT30 -> 0 | DI30: =EB30 -> 0 | DJ30: =EJ30 -> 0 | DK30: =ER30 -> 0 | DL30: =EZ30 -> 0 | DN30: =DU30 -> 0 | DO30: =EC30 -> 0 | DP30: =EK30 -> 0 | DQ30: =ES30 -> 0 | DR30: =FA30 -> 0 | FI30: =FU30 -> 0 | FJ30: =GC30 -> 0 | FK30: =GK30 -> 0 | FL30: =GS30 -> 0 | FM30: =HA30 -> 0 | FO30: =FV30 -> 0 | FP30: =GD30 -> 0 | FQ30: =GL30 -> 0 | FR30: =GT30 -> 0 | FS30: =HB30 -> 0 | HJ30: =HV30 -> 0 | HK30: =ID30 -> 0 | HL30: =IL30 -> 0 | HM30: =IT30 -> 0 | HN30: =JB30 -> 0 | HP30: =HW30 -> 0 | HQ30: =IE30 -> 0 | HR30: =IM30 -> 0 | HS30: =IU30 -> 0 | HT30: =JC30 -> 0 | JK30: =JW30 -> 0 | JL30: =KE30 -> 0 | JM30: =KM30 -> 0 | JN30: =KU30 -> 0 | JO30: =LC30 -> 0 | JQ30: =JX30 -> 0 | JR30: =KF30 -> 0 | JS30: =KN30 -> 0 | JT30: =KV30 -> 0 | JU30: =LD30 -> 0 | LL30: =LX30 -> 0 | LM30: =MF30 -> 0 | LN30: =MN30 -> 0 | LO30: =MV30 -> 0 | LP30: =ND30 -> 0 | LR30: =LY30 -> 0 | LS30: =MG30 -> 0 | LT30: =MO30 -> 0 | LU30: =MW30 -> 0 | LV30: =NE30 -> 0
